BEGIN:VCALENDAR
VERSION:2.0
PRODID:-//Verwood Rotary Club - ECPv6.15.20//NONSGML v1.0//EN
CALSCALE:GREGORIAN
METHOD:PUBLISH
X-WR-CALNAME:Verwood Rotary Club
X-ORIGINAL-URL:https://verwoodrotary.org.uk
X-WR-CALDESC:Events for Verwood Rotary Club
REFRESH-INTERVAL;VALUE=DURATION:PT1H
X-Robots-Tag:noindex
X-PUBLISHED-TTL:PT1H
BEGIN:VTIMEZONE
TZID:Europe/London
BEGIN:DAYLIGHT
TZOFFSETFROM:+0000
TZOFFSETTO:+0100
TZNAME:BST
DTSTART:20240331T010000
END:DAYLIGHT
BEGIN:STANDARD
TZOFFSETFROM:+0100
TZOFFSETTO:+0000
TZNAME:GMT
DTSTART:20241027T010000
END:STANDARD
BEGIN:DAYLIGHT
TZOFFSETFROM:+0000
TZOFFSETTO:+0100
TZNAME:BST
DTSTART:20250330T010000
END:DAYLIGHT
BEGIN:STANDARD
TZOFFSETFROM:+0100
TZOFFSETTO:+0000
TZNAME:GMT
DTSTART:20251026T010000
END:STANDARD
BEGIN:DAYLIGHT
TZOFFSETFROM:+0000
TZOFFSETTO:+0100
TZNAME:BST
DTSTART:20260329T010000
END:DAYLIGHT
BEGIN:STANDARD
TZOFFSETFROM:+0100
TZOFFSETTO:+0000
TZNAME:GMT
DTSTART:20261025T010000
END:STANDARD
END:VTIMEZONE
BEGIN:VEVENT
DTSTART;TZID=Europe/London:20250825T120000
DTEND;TZID=Europe/London:20250825T170000
DTSTAMP:20260424T221906
CREATED:20250224T184723Z
LAST-MODIFIED:20250819T103100Z
UID:336-1756123200-1756141200@verwoodrotary.org.uk
SUMMARY:Verwood Rustic Fayre
DESCRIPTION:Looking for a fantastic day out filled with entertainment\, local culture\, and good old-fashioned fun? Look no further than the Verwood Rustic Fayre – a beloved annual community event on August Bank Holiday Monday. This much-anticipated gathering offers a perfect blend of rural charm and family-friendly activities\, making it a highlight on Dorset’s social calendar.
URL:https://verwoodrotary.org.uk/event/verwood-rustic-fayre/
LOCATION:Potterne Park\, Potterne Way\,\, Verwood\, BH21 6RS\, United Kingdom
ATTACH;FMTTYPE=image/jpeg:https://verwoodrotary.org.uk/wp-content/uploads/2025/02/rustic-drums.jpg
ORGANIZER;CN="Verwood Rotary":MAILTO:secretary@verwoodrotary.org.uk
END:VEVENT
END:VCALENDAR