BEGIN:VCALENDAR
VERSION:2.0
PRODID:-//Verwood Rotary Club - ECPv6.15.20//NONSGML v1.0//EN
CALSCALE:GREGORIAN
METHOD:PUBLISH
X-WR-CALNAME:Verwood Rotary Club
X-ORIGINAL-URL:https://verwoodrotary.org.uk
X-WR-CALDESC:Events for Verwood Rotary Club
REFRESH-INTERVAL;VALUE=DURATION:PT1H
X-Robots-Tag:noindex
X-PUBLISHED-TTL:PT1H
BEGIN:VTIMEZONE
TZID:Europe/London
BEGIN:DAYLIGHT
TZOFFSETFROM:+0000
TZOFFSETTO:+0100
TZNAME:BST
DTSTART:20240331T010000
END:DAYLIGHT
BEGIN:STANDARD
TZOFFSETFROM:+0100
TZOFFSETTO:+0000
TZNAME:GMT
DTSTART:20241027T010000
END:STANDARD
BEGIN:DAYLIGHT
TZOFFSETFROM:+0000
TZOFFSETTO:+0100
TZNAME:BST
DTSTART:20250330T010000
END:DAYLIGHT
BEGIN:STANDARD
TZOFFSETFROM:+0100
TZOFFSETTO:+0000
TZNAME:GMT
DTSTART:20251026T010000
END:STANDARD
BEGIN:DAYLIGHT
TZOFFSETFROM:+0000
TZOFFSETTO:+0100
TZNAME:BST
DTSTART:20260329T010000
END:DAYLIGHT
BEGIN:STANDARD
TZOFFSETFROM:+0100
TZOFFSETTO:+0000
TZNAME:GMT
DTSTART:20261025T010000
END:STANDARD
END:VTIMEZONE
BEGIN:VEVENT
DTSTART;TZID=Europe/London:20250329T193000
DTEND;TZID=Europe/London:20250329T230000
DTSTAMP:20260425T114058
CREATED:20250216T101429Z
LAST-MODIFIED:20250316T172845Z
UID:141-1743276600-1743289200@verwoodrotary.org.uk
SUMMARY:Swing Unlimited Dance Band
DESCRIPTION:Swing Unlimited Dance Band is a 15+ piece ensemble that specializes in performing a diverse range of danceable music\, spanning from classic swing to more contemporary genres. They are part of the Swing Unlimited Big Band (SUBB) group\, which was founded in 2001 with the aim of providing opportunities for local musicians to play a wide array of big band music. \nCome and join Verwood Rotary\, doors open at 7.30pm. There is a licenced bar\, comestibles and a raffle\, entrance is £13 on the door. For more information contact Vern Harris. Tel: 01202 824005. Email: Vern.harris@talktalk.net  Peter Campbell. Mob: 07931 505495
URL:https://verwoodrotary.org.uk/event/swing-unlimited-dance-band/
LOCATION:Verwood Memorial Hall\, Ringwood Rd\,\, Verwood\, Dorset\, BH31 7AA\, United Kingdom
ATTACH;FMTTYPE=image/jpeg:https://verwoodrotary.org.uk/wp-content/uploads/2025/02/SWING.jpg
ORGANIZER;CN="Verwood Rotary":MAILTO:secretary@verwoodrotary.org.uk
END:VEVENT
END:VCALENDAR