BEGIN:VCALENDAR
VERSION:2.0
PRODID:-//Verwood Rotary Club - ECPv6.15.20//NONSGML v1.0//EN
CALSCALE:GREGORIAN
METHOD:PUBLISH
X-WR-CALNAME:Verwood Rotary Club
X-ORIGINAL-URL:https://verwoodrotary.org.uk
X-WR-CALDESC:Events for Verwood Rotary Club
REFRESH-INTERVAL;VALUE=DURATION:PT1H
X-Robots-Tag:noindex
X-PUBLISHED-TTL:PT1H
BEGIN:VTIMEZONE
TZID:Europe/London
BEGIN:DAYLIGHT
TZOFFSETFROM:+0000
TZOFFSETTO:+0100
TZNAME:BST
DTSTART:20240331T010000
END:DAYLIGHT
BEGIN:STANDARD
TZOFFSETFROM:+0100
TZOFFSETTO:+0000
TZNAME:GMT
DTSTART:20241027T010000
END:STANDARD
BEGIN:DAYLIGHT
TZOFFSETFROM:+0000
TZOFFSETTO:+0100
TZNAME:BST
DTSTART:20250330T010000
END:DAYLIGHT
BEGIN:STANDARD
TZOFFSETFROM:+0100
TZOFFSETTO:+0000
TZNAME:GMT
DTSTART:20251026T010000
END:STANDARD
BEGIN:DAYLIGHT
TZOFFSETFROM:+0000
TZOFFSETTO:+0100
TZNAME:BST
DTSTART:20260329T010000
END:DAYLIGHT
BEGIN:STANDARD
TZOFFSETFROM:+0100
TZOFFSETTO:+0000
TZNAME:GMT
DTSTART:20261025T010000
END:STANDARD
END:VTIMEZONE
BEGIN:VEVENT
DTSTART;TZID=Europe/London:20250517T193000
DTEND;TZID=Europe/London:20250517T230000
DTSTAMP:20260425T162823
CREATED:20250403T102710Z
LAST-MODIFIED:20250403T170244Z
UID:621-1747510200-1747522800@verwoodrotary.org.uk
SUMMARY:Race Night
DESCRIPTION:Excitement\, fun and wins await you at the Verwood Memorial Hall. Come and join us for an evening of fun at our Race Night. Bring your own picnic food; drinks will be available from a licenced bar – tote betting £1 bets.  Tickets from Tim Garrick 01202 825520
URL:https://verwoodrotary.org.uk/event/race-night/
LOCATION:Verwood Memorial Hall\, Ringwood Rd\,\, Verwood\, Dorset\, BH31 7AA\, United Kingdom
ATTACH;FMTTYPE=image/jpeg:https://verwoodrotary.org.uk/wp-content/uploads/2025/04/HORSE.jpg
ORGANIZER;CN="Verwood Rotary":MAILTO:secretary@verwoodrotary.org.uk
END:VEVENT
BEGIN:VEVENT
DTSTART;TZID=Europe/London:20250508T140000
DTEND;TZID=Europe/London:20250508T223000
DTSTAMP:20260425T162823
CREATED:20250502T184221Z
LAST-MODIFIED:20250502T184221Z
UID:736-1746712800-1746743400@verwoodrotary.org.uk
SUMMARY:VE Celebrations
DESCRIPTION:On Thursday 8 May\, please join us to commemorate the 80th anniversary of VE Day.\nVerwood Rotary Club will be running a pop-up drinks tent on Ferret Green. Doors open from 2pm.\nCome and raise a glass to heroes of conflicts past and in memory of those who fought and didn’t come home. \nWe open at 2pm and will be serving drinks throughout the day.
URL:https://verwoodrotary.org.uk/event/ve-celebrations/
LOCATION:Ferret Green\, Verwood\, BH31 6HF\, United Kingdom
ATTACH;FMTTYPE=image/jpeg:https://verwoodrotary.org.uk/wp-content/uploads/2025/05/IMG_1064.jpg
END:VEVENT
BEGIN:VEVENT
DTSTART;TZID=Europe/London:20250329T193000
DTEND;TZID=Europe/London:20250329T230000
DTSTAMP:20260425T162823
CREATED:20250216T101429Z
LAST-MODIFIED:20250316T172845Z
UID:141-1743276600-1743289200@verwoodrotary.org.uk
SUMMARY:Swing Unlimited Dance Band
DESCRIPTION:Swing Unlimited Dance Band is a 15+ piece ensemble that specializes in performing a diverse range of danceable music\, spanning from classic swing to more contemporary genres. They are part of the Swing Unlimited Big Band (SUBB) group\, which was founded in 2001 with the aim of providing opportunities for local musicians to play a wide array of big band music. \nCome and join Verwood Rotary\, doors open at 7.30pm. There is a licenced bar\, comestibles and a raffle\, entrance is £13 on the door. For more information contact Vern Harris. Tel: 01202 824005. Email: Vern.harris@talktalk.net  Peter Campbell. Mob: 07931 505495
URL:https://verwoodrotary.org.uk/event/swing-unlimited-dance-band/
LOCATION:Verwood Memorial Hall\, Ringwood Rd\,\, Verwood\, Dorset\, BH31 7AA\, United Kingdom
ATTACH;FMTTYPE=image/jpeg:https://verwoodrotary.org.uk/wp-content/uploads/2025/02/SWING.jpg
ORGANIZER;CN="Verwood Rotary":MAILTO:secretary@verwoodrotary.org.uk
END:VEVENT
END:VCALENDAR